BEGIN:VCALENDAR
METHOD:PUBLISH
VERSION:2.0
PRODID:-//Eventilla iCal Syndication//NONSGML Liana//EN
BEGIN:VEVENT
UID:1NbQV@eventilla.com
DTSTAMP:20241023T030000Z
DTSTART:20241023T030000Z
DTEND:20241023T180000Z
SUMMARY:PK-yrityksille maksuton bussikuljetus Energiamessuille
DESCRIPTION:Vaasanseudun Kehitys VASEK Oy ja Oy Merinova Ab tarjoavat Vaasanseudun pk-yrityksille maksuttoman linja-autokuljetuksen Energiamessuille Tampereelle keskiviikkona 23.10.2024.\nEnergiamessut järjestetään Tampereen Messu- ja Urheilukeskuksessa 22.–24.10.2024 ja kestävien ja älykkäiden energiaratkaisujen ja -laitteiden lisäksi tapahtuma pureutuu ilmastonmuutokseen ja päästöjen hillintään.\nLyhyesti matkasta:\n\nLinja-auto lähtee matkaan (ns. ensimmäinen pysäkki) Vaasasta ABC Kivihaan parkkipaikalta klo 6.00.\nToinen pysäkki on ABC Kiitokaari/Lentokenttä (pääsisäänkäynnin edusta) noin klo 6.10 ja\nkolmas pysäkki on Laihian Matkahuolto noin klo 6.20.\nPysähdymme sekä meno- että paluumatkalla esim. Juustoportilla tai Parkanon Shellillä tms.\nLinja-autokuljetuksesta vastaa Tapio Lae Oy\nMessut aukeavat klo 9.00 ja Tampereelle saavutaan noin klo 9.30-10.00.\nMessut päättyvät klo 17.00 ja paluumatkalle lähdetään viimeistään noin klo 17.15 (tulo- ja lähtöpaikka pääsisäänkäynnin välittömässä läheisyydessä).\n\nENERGIAMESSUT 2024 kotisivu\nP.S. Samasta yrityksestä voi ilmoittautua useampikin henkilö!
LOCATION:Tampere\, Kolme eri lähtöpaikkaa, ilmoita lähtöpaikkasi
 ilmoittautumisen yhteydessä.
URL:http://events.vasek.fi/energiamessubussi
END:VEVENT
END:VCALENDAR
