BEGIN:VCALENDAR
METHOD:PUBLISH
VERSION:2.0
PRODID:-//Eventilla iCal Syndication//NONSGML Liana//EN
BEGIN:VEVENT
UID:DVAPk@eventilla.com
DTSTAMP:20251030T150000Z
DTSTART:20251030T150000Z
DTEND:20251030T170000Z
SUMMARY:ICT & Energy recruitment
DESCRIPTION:Kom och träffa vasaföretag som är globala ledare inom sin bransch. Du får redan på förhand höra om bl.a. kommande sommar- och praktikplatser samt framtida karriärmöjligheter.\nDe företag som är med är ABB\, Danfoss\, Hitachi\, Huld\, The Switch\, Vaasan Sähkö och WE Tech Solutions.\nVi lovar goda samtal samt lätt matservering!\nEvenemanget hålls på finska och på svenska.\nNu lönar det sig att vara snabb\, vi har endast ett begränsat antal platser.\nP.S. Om du inte kan delta\, vänligen avboka. Det är även en hållbarhetsfråga då vi försöker undvika onödigt matsvinn.
LOCATION:Original Sokos Hotel Royal\, Hovrättsesplanaden 18\, 65100\,
 Vasa\, Suomi
URL:http://events.vasek.fi/ictenergyrekry
END:VEVENT
END:VCALENDAR
