BEGIN:VCALENDAR
METHOD:PUBLISH
VERSION:2.0
PRODID:-//Eventilla iCal Syndication//NONSGML Liana//EN
BEGIN:VEVENT
UID:GwrAk@eventilla.com
DTSTAMP:20260211T053000Z
DTSTART:20260211T053000Z
DTEND:20260211T070000Z
SUMMARY:EnergyVaasa Networking Breakfast
DESCRIPTION:Tervetuloa EnergyVaasa-klusterin yrityksille ja asiantuntijoille suunnattuun maksuttomaan Networking Breakfast -tilaisuuteen keskiviikkona 11. helmikuuta 2026 klo 7:30–9:00 ravintola Rossoon.EnergyVaasa Networking Breakfast tarjoaa EnergyVaasa-klusterin yrityksille\, yrityspäättäjille ja asiantuntijoille ajankohtaisia näkökulmia energia-alan yritystoimintaan sekä mahdollisuuden vahvistaa verkostoja rennossa aamiaisympäristössä.\nAamiaistilaisuuden ohjelma:\n7.30 Aamiainen ja verkostoitumista8.00 Ajankohtaiskatsaus\n\nMerinovan palvelut pk-yrityksille & ajankohtaisia nostoja yrityskentältä: Tommi Sykkö\, palvelupäällikkö\, Merinova\nYritysesittely: CoE Group\n\n8.15 Maria Haglund\, Projektipäällikkö\, osaava työvoima\, VASEK8.30–9.00 Vapaata keskustelua ja verkostoitumista\nIlmoittaudu mukaan viimeistään 6.2.\nTilaisuus on kolmikielinen (suomi\, ruotsi ja englanti)\, ja osallistujat sekä puhujat voivat käyttää itselleen luontevinta kieltä.\nAamiaistilaisuuden tarjoaa EnergyVaasa. Tervetuloa aloittamaan päiväsi kohtaamisten ja ajankohtaisten yritysteemojen parissa!\nSaapumisohje:\nHuomioithan\, että kauppakeskus Rewell avautuu vasta klo 8. Aamiaistilaisuuteen saapuvat vieraat pääsevät kuitenkin sisään joko Rewellin liukuovesta soittamalla ovikelloa (oven vasemmalla puolella) tai VENNin ulko-ovesta.\nVastaanotto on paikalla ja ohjaa vieraat aamiaisravintolaan.
LOCATION:Rosso Vaasa\, Rewell Center 101\, 65100\, Vaasa
URL:http://events.vasek.fi/event/GwrAk
END:VEVENT
END:VCALENDAR
