BEGIN:VCALENDAR
METHOD:PUBLISH
VERSION:2.0
PRODID:-//Eventilla iCal Syndication//NONSGML Liana//EN
BEGIN:VEVENT
UID:LPWLg@eventilla.com
DTSTAMP:20260509T043000Z
DTSTART:20260509T043000Z
DTEND:20260509T130000Z
SUMMARY:Omistajanvaihdosristeily Wasalinellä
DESCRIPTION:Harkitsetko yrityksen ostamista tai myymistä? Onko teillä kenties sukupolvenvaihdos tulossa? Vai haluatko tietää lisää omistajanvaihdoksesta\, jotta olisit ajoissa asialla?\nNyt sinulla on mahdollisuus saada aimo annos tietoa omistajanvaihdoksista omistajanvaihdosristeilyllä! Lastaamme aluksen täyteen asiantuntemusta ja vietämme päivän Merenkurkussa yhdessä omistajanvaihdosasiantuntijoiden kanssa. Puhumme sopimuksista\, veroista\, arvonmäärityksestä\, rahoituksesta\, vakuutuksista ja myyntikanavista. Lisäksi voit varata ajan henkilökohtaiseen tapaamiseen luennoitsijoiden kanssa.\nEikä siinä vielä kaikki. Tarjoamme aamiaisen ja lounaan Aurora Botnialla. Lauantaina 9.5. laiva lähtee klo 8 Vaasasta kohti Uumajaa ja palaamme klo 16 samana päivänä.\nOsallistuminen on maksutonta ja peruutuksia voi tehdä ilmoittautumisajan loppuun asti. Poisjäänneistä\, jota ei ole peruttu 30.4. mennessä\, veloitamme 100 euroa.\nIlmoittaudu heti ja varmista paikkasi laivalla! Paikkoja on rajoitettu 80. Katso tarkempi ohjelma alta.\nOhjelma\n7.15-7.30 Saapuminen laivaan\n7.45-8.45 Meriaamiainen Buffet-ravintolassa\nPuheenvuorot laivan kokoustilassa. Huom. Kaikki puheenvuorot ovat ruotsiksi.\n8.45 Presentation av Ostrobothnia Business Transfers-projektet\n8.50 Finnveras lösningar till finansiering av ägarskiftenPäivi Kinnunen\, Finnvera\n9.05 Case: Generationsskifte Christoffer Lundström\, Bed Invest \n9.20 Beskattning vid ägarskifteTore Back\, Rantalainen\n9.50 VärderingKenneth Blomqvist\, Fic Advisory Oy Ab\n10.20 Tauko\n10.30 AvtalKjell Renlund\, EY\n11.00 Bokförarens syn på ägarskifteKjell Ahläng\, Convido\n11.30 En lyckad företagsaffärAnchor Ventures\n11.45 Lounas Buffet-ravintolan saaristolaispöydässä\n13.00 Klinikkatapaamiset (varaa tapaaminen ilmoittautumisen yhteydessä) sekä luento menestyksekkäistä omistajanvaihdoksista\n15.40 Päätössanat\n16.00 Laiva satamassa\n \nJärjestäjänä Ostrobothnian Business Transfers -projekti: Concordia\, VASEK\, Dynamo Närpes\, Business Kristinestad\n
LOCATION:M/S Aurora Botnia, Wasaline
URL:http://events.vasek.fi/omistajanvaihdosristeily26
END:VEVENT
END:VCALENDAR
