BEGIN:VCALENDAR
METHOD:PUBLISH
VERSION:2.0
PRODID:-//Eventilla iCal Syndication//NONSGML Liana//EN
BEGIN:VEVENT
UID:RG39K@eventilla.com
DTSTAMP:20251210T053000Z
DTSTART:20251210T053000Z
DTEND:20251210T070000Z
SUMMARY:EnergyVaasa Networking Breakfast
DESCRIPTION:Tervetuloa mukaan ensimmäiseen EnergyVaasa klusterille suunnattuun maksuttomaan Networking Breakfast -tilaisuuteen keskiviikkona 10. joulukuuta 2025 klo 7:30–9:00 Vaasan Sokos Hotel Royalin Aurora-kokoushuoneeseen.EnergyVaasa Networking Breakfast -tilaisuudet kokoavat alueen yritykset\, asiantuntijat ja päättäjät yhteen jakamaan ajankohtaista tietoa ja keskustelemaan seudun kehityksestä rennossa aamiaisympäristössä verkostoitumisen merkeissä.\nAamiaistilaisuuden ohjelma:\n7.30 Aamiainen ja verkostoitumista\n8.00 Ajankohtaiskatsaus\n\nReArm-uudistus ja kaksikäyttöteknologiamahdollisuudet pk-yrityksille\nEnergyVaasa 2026 ja jäsenedut\n\n8.15 Yritysesittely: Arcteq Relays\n8.30-9.00 Vapaata keskustelua ja verkostoitumista\nIlmoittaudu viimeistään perjantaina 5.12.2025. Tämä tapahtuma on kolminkielinen (suomi\, ruotsi ja englanti)\, ja kaikki osallistujat sekä luennoitsijat voivat puhua sitä kieltä\, joka on heille mukavin.\nAamiaistilaisuuden tarjoaa EnergyVaasa. Tule siis nauttimaan maittavasta aamiaisbuffetista yhdessä EnergyVaasa-yhteisön kanssa!
LOCATION:Sokos Hotel Royalin Aurora-kokoushuone\, Hovioikeuden puistikko\,
 65100\, Vaasa
URL:http://events.vasek.fi/energyvaasabreakfast
END:VEVENT
END:VCALENDAR
