BEGIN:VCALENDAR
METHOD:PUBLISH
VERSION:2.0
PRODID:-//Eventilla iCal Syndication//NONSGML Liana//EN
BEGIN:VEVENT
UID:VEkaN@eventilla.com
DTSTAMP:20251001T030000Z
DTSTART:20251001T030000Z
DTEND:20251001T180000Z
SUMMARY:PK-yrityksille maksuton bussikuljetus Alihankinta 2025 messuille
DESCRIPTION:VASEKin Innovation Boost -hanke sekä Oy Merinova Ab järjestävät yhteistyössä pk-yrityksille suunnatun maksuttoman linja-autokuljetuksen Alihankinta-messuille Tampereelle keskiviikkona 1.10.2025. \nAlihankinta on Suomen johtava teollisuustapahtuma ja Euroopan toiseksi suurin alihankintateollisuuden messutapahtuma ja se järjestetään 30.9.-2.10.2025 Tampereen Messu- ja Urheilukeskuksessa. Tapahtuman teemana on ”Kilpailukykyä kestävästi”.\nLyhyesti matkasta:\n\nLinja-auto lähtee matkaan (ensimmäinen pysäkki) Vaasasta ABC Kivihaan parkkipaikalta klo 6.00\nToinen pysäkki on ABC Kiitokaari (pääsisäänkäynnin edusta) noin klo 6.10\nKolmas pysäkki on Laihialla Eerontie 2 noin klo 6.20\nPysähdymme sekä meno- että paluumatkalla esim. Juustoportilla tai Parkanon Shellillä tms.\nMessut aukeavat klo 9.00 ja Tampereelle saavutaan noin klo 9.30.\nMessut päättyvät klo 17.00 ja paluumatkalle lähdetään viimeistään noin klo 17.15 (tulo- ja lähtöpaikka pääsisäänkäynnin välittömässä läheisyydessä).\n\nLue lisää ALIHANKINTA 2025 messujen ohjelmasta täältä > www.alihankinta.fi\nP.S. Samasta yrityksestä voi ilmoittautua useampikin henkilö!\nInnovation Boost -hankkeen rahoitus: Alueiden kestävän kasvun ja elinvoiman tukeminen -määräraha (AKKE)\n
LOCATION:Tampere\, Kolme eri lähtöpaikkaa, ilmoita lähtöpaikkasi
 ilmoittautumisen yhteydessä.
URL:http://events.vasek.fi/ahbussi2025
END:VEVENT
END:VCALENDAR
