BEGIN:VCALENDAR
METHOD:PUBLISH
VERSION:2.0
PRODID:-//Eventilla iCal Syndication//NONSGML Liana//EN
BEGIN:VEVENT
UID:YaOJE@eventilla.com
DTSTAMP:20260127T040000Z
DTSTART:20260127T040000Z
DTEND:20260128T191500Z
SUMMARY:Veturiyrityksistä vipuvartta - tutustumismatka Tampereelle
DESCRIPTION:Business Finland on haastanut kyvykkäitä\, globaalisti toimivia yrityksiä erikokoisten yritysten ja muiden toimijoiden muodostamien ekosysteemien vetureiksi.\nEkosysteemien vauhdittamiseksi Business Finland tarjoaa yrityksille ja tutkimusorganisaatioille kumppanuusrahoitusta veturiyritysten tiekarttojen mukaisille T&K-hankkeille.\nPohjanmaan Innovation Boost -hankkeet järjestävät 27.-28.1.2026 tutustumismatkan Tampereelle:\n\nTiistaina 27.1. ohjelmassa SAAB ja Patria\nKeskiviikkona 28.1. tapaamme Millog\, VTT\, Nokian Renkaat.\n\nMaksuttoman bussikuljetuksen (Vaasa-Tampere-Vaasa) lisäksi matkaan sisältyy Ilves-Vaasan Sport -ottelulippu tiistaina 27.1.\nOsallistujat vastaavat itse majoituksen varaamisesta sekä ruokailukustannuksista matkalla. Suosittelemme esim. Sokos Hotel Tornia majoittumiseen.\nHuomioithan\, että matkalle osallistujien on oltava Suomen kansalaisia ja ilmoitettava yrityksensä Y-tunnus. Kaksoiskansalaisuudesta on ilmoitettava ilmoittautumislomakkeella. Osallistujen on todistettava henkilöllisyytensä vierailukohteissa.\nMatkan aikataulu:\n27.1.2026\n\n6.00 Bussi lähtee\, ABC Kivihaka\n6.15 Bussi lähtee\, ABC Runsor\n9.30 Saapuminen Tampereelle\n10.00 Vierailu SAAB\n12.00 Vierailu Patria\n16.00 Majoittuminen (bussi vie Sokos Hotel Tornille)\n18.00 jääkiekko-ottelu Ilves–Vaasan Sport\n\n28.1.2026\n\n8.30 Bussi lähtee hotelli Sokos Hotel Tornilta\n9.00 Vierailu Millog\n12.00 Vierailu VTT\n14.00 Vierailu Nokian Renkaat\n16.00 Paluumatka Vaasaan alkaa\n20.00 Saapuminen ABC Runsor\n20.15 Saapuminen ABC Kivihaka\n\nLisätietoja antavat:\nOlav Nylund\, VASEK olav.nylund@vasek.fiLasse Pohjala\, VASEK lasse.pohjala@vasek.fiMathias Hasselblatt\, Merinova mathias.hasselblatt@merinova.fiKalle Hällfors\, Merinova kalle.hallfors@merinova.fi\nP.S. Jos tulet muulla kuljetuksella kuin bussillamme\, liity seuraamme 1. vierailukohteessa SAABilla.
LOCATION:Tampere
URL:http://events.vasek.fi/veturimatka
END:VEVENT
END:VCALENDAR
