BEGIN:VCALENDAR
METHOD:PUBLISH
VERSION:2.0
PRODID:-//Eventilla iCal Syndication//NONSGML Liana//EN
BEGIN:VEVENT
UID:Z717k@eventilla.com
DTSTAMP:20250903T060000Z
DTSTART:20250903T060000Z
DTEND:20250903T080000Z
SUMMARY:Discover India: Business & Innovation Opportunities for Finnish Companies
DESCRIPTION:Join us for an exclusive India-focused morning session in Vaasa as part of the Team Finland India Roadshow 2025. This event is tailored for Finnish companies\, startups\, and higher education institutions interested in expanding into one of the fastest-growing economies in the world.\nThis is a unique opportunity to gain market insights from the Embassy of Finland in India\, Business Finland\, and the Finnish Chamber of Commerce in India; connect with partners in India - Finland collaboration; explore opportunities in key sectors; and hear firsthand experiences from Finnish companies doing business in India.\nWhether you're export-ready\, curious about India\, or seeking strategic partnerships\, this session offers actionable guidance and inspiring case stories.\nPreliminary program:\nThis event is organised by Team Finland India in collaboration with Vaasa Region Development Company. Featuring company presentations by Kaiku HR and a second company (TBC).\n09:00 – 09:10 Opening remarks by the Ambassadors H.E. Mr. Kimmo Lähdevirta and H.E. Hemant H. Kotalwar\n09:10 – 09:15 Opening remarks by the Consul-General of Finland to Mumbai H.E. Mr. Erik af Hällström\n09:15 – 09:25 What’s Up India? Update on current situation by Ms. Sanna Orava\n09:25 – 09:35 Opportunities for Finnish companies in India by Ms. Gitta Perez\n09:35 – 09:45 How to attract talent from India by Ms. Shreshta Sharma\n09:45 – 10:15 Company cases: Experiences of doing business in India\n10:15 – 10:25 Fincham India supporting Finnish companies in India by Ms. Swati Grover\n10:25 – 10:30 Wrap-up by the Ambassadors\n10:30 – 10:40 Q&A\n10:40 – 11:00 Networking\n \nThe program details will be confirmed and updated closer to the event.
LOCATION:Original Sokos Hotel Royal Vaasa\, Hovioikeudenpuistikko 18\,
 65100\, Vaasa\, Finland
URL:http://events.vasek.fi/teamfinlandindiaroadshow
END:VEVENT
END:VCALENDAR
