BEGIN:VCALENDAR
METHOD:PUBLISH
VERSION:2.0
PRODID:-//Eventilla iCal Syndication//NONSGML Liana//EN
BEGIN:VEVENT
UID:l9MA9@eventilla.com
DTSTAMP:20250826T100000Z
DTSTART:20250826T100000Z
DTEND:20250826T120000Z
SUMMARY:Energiatehokkuudesta kannattavuutta -hankkeen loppuseminaari
DESCRIPTION:Ajankohtaista asiaa energiatehokkuudesta ja sen liiketoimintahyödyistä!\nTervetuloa Energiatehokkuudesta kannattavuutta -hankkeen loppuseminaariin. Ohjelmassa kuullaan asiantuntijapuheenvuoroja pk-yrityksille suunnatuista ratkaisuista\, kiinteistödatan hyödyntämisestä ja suunnitelmallisesta energianhallinnasta.\nTilaisuus tarjoaa myös mahdollisuuden verkostoitumiseen kakkukahvien merkeissä. Tilaisuus on suomenkielinen ja avoin kaikille kiinnostuneille.\nLoppuseminaarin ohjelmassa:\nklo 13.00 Kakkukahvit ja verkostoitumista\nklo 13.20 Erja Saarivirta\, MotivaPK-yritysten energiatehokkuus -Energiatehokkuuden hyödyt yrityksille\nklo 13.40 Tommi Sykkö\, Merinova ja Antti Alasaari\, VASEKEnergiatehokkuudesta kannattavuutta -hankkeen tulosten esittely\nklo 13.55 Ville Pajukangas\, Granlund Pohjanmaa OySuunniteltu kiinteistöjohtaminen sekä kiinteistödatan visualisointi\nklo 14.15 Aleksi Ihalainen\, eWatt Smart Power Systems OyKiinteistön laitekohtaisella sähködatalla energiatehokkuus uudelle tasolle\nklo 14.35 Mikko Palenius\, Vilpe Oy: Energiatehokkuus osana vastuullisuustyötäLoppukeskustelu\nklo 15.00 Tilaisuus päättyy\n \nWebinaarin järjestävät Teknologiakeskus Merinova ja VASEK yhteisen Energiatehokkuudesta kannattavuutta -hankkeensa puitteissa\n\n 
LOCATION:Silverian auditorio\, Ruutikellarintie 4\, 65100\, Vaasa
URL:http://events.vasek.fi/loppuseminaari
END:VEVENT
END:VCALENDAR
